BEGIN:VCALENDAR
VERSION:2.0
PRODID:-//IMPOA - ECPv6.15.20//NONSGML v1.0//EN
CALSCALE:GREGORIAN
METHOD:PUBLISH
X-WR-CALNAME:IMPOA
X-ORIGINAL-URL:https://impoa.net
X-WR-CALDESC:Events for IMPOA
REFRESH-INTERVAL;VALUE=DURATION:PT1H
X-Robots-Tag:noindex
X-PUBLISHED-TTL:PT1H
BEGIN:VTIMEZONE
TZID:America/Denver
BEGIN:DAYLIGHT
TZOFFSETFROM:-0700
TZOFFSETTO:-0600
TZNAME:MDT
DTSTART:20250309T090000
END:DAYLIGHT
BEGIN:STANDARD
TZOFFSETFROM:-0600
TZOFFSETTO:-0700
TZNAME:MST
DTSTART:20251102T080000
END:STANDARD
BEGIN:DAYLIGHT
TZOFFSETFROM:-0700
TZOFFSETTO:-0600
TZNAME:MDT
DTSTART:20260308T090000
END:DAYLIGHT
BEGIN:STANDARD
TZOFFSETFROM:-0600
TZOFFSETTO:-0700
TZNAME:MST
DTSTART:20261101T080000
END:STANDARD
BEGIN:DAYLIGHT
TZOFFSETFROM:-0700
TZOFFSETTO:-0600
TZNAME:MDT
DTSTART:20270314T090000
END:DAYLIGHT
BEGIN:STANDARD
TZOFFSETFROM:-0600
TZOFFSETTO:-0700
TZNAME:MST
DTSTART:20271107T080000
END:STANDARD
END:VTIMEZONE
BEGIN:VEVENT
DTSTART;VALUE=DATE:20260417
DTEND;VALUE=DATE:20260621
DTSTAMP:20260421T040311
CREATED:20250804T155722Z
LAST-MODIFIED:20260420T162843Z
UID:3431-1776384000-1781999999@impoa.net
SUMMARY:This week in Park County - The Flume
DESCRIPTION:More details here from The Flume\nFriday\, April 17 \n9:30 a.m. – Storytime at Fairplay Library\, 400 Front Street. \n10 a.m. to noon – Lego Club at the Fairplay Library\, 400 Front Street. \n10-11:30 a.m. – Kinder Gym Fridays at the South Park Recreational Center for ages six months to five years old. Open gym and tumbling. Parent or guardian supervision is required. Free with membership or drop in for $6. \n1 p.m. Knitting group at the Bailey Community Center. Take your needles and join the fun\, learning and socializing. Call 720-385-8300 for more information. \n\n\nSaturday\, April 18\n\n\n10 a.m. – Informal get-together with Susan Dagett at the Platte Canyon Fire Station\, 153 Dellwood Drive in Bailey. Dagett is the wife of Sen. Michael Bennet and executive director of the Rocky Mountain Land Use Institute. \n10 a.m. – Earth Day Celebration\, fundraiser for Bailey Community Gardens\, 83 Main St. Master gardeners and CSU Extension office offers Earth Day information and activities\, houseplants\, seedlings\, pots\, tools\, refreshments and more for donations the community gardening programs. \nNoon-3 p.m. – Free Soup Saturday at the American Legion\, 501 Clark St. Fairplay. \nSunday\, April 19 \n2 p.m. – Mary Ellen Johnson will showcase her latest book\, “The Golden Promise of Cripple Creek” at the Pikes Peak HIstorical Society upcoming Chautauqua. The event will be held at Lake George Charter School\, 38874 U.S. 24 in Lake George.  Free and open to the public. \nMonday\, April 20 \n6 p.m. – Town of Fairplay Board of Trustees regular meeting at town hall board room\, 901 Main St. Fairplay. \n6:30 p.m. – Park Count Development Services hosts community meetings to discuss and capture feedback on revised short-term rental ordinance being considered for adoption. Meetings hosted via Zoom or in person at the county office building located at 856 Costello Ave. Fairplay. Meeting will focus on those properties located north and east of Kenosha Pass. \n6:30 p.m. – Fairplay AA meeting at South Park Community Church\, 300 Sixth St. Fairplay. \nTuesday\, April 21 \n9:30 a.m. Storytime at Fairplay Library\, 400 Front Street. \n\n\n10 a.m.-2 p.m. – Stride Mobile Healthcare Clinic at the Bailey Library\, 350 Bulldogger Road.\n\n\n1-6 p.m. – Park County Board of Commissioners will meet for work session and regular meeting at county offices\, 856 Castello Avenue. Work session is from 1-3 p.m. Regular meeting is from 3 p.m. to 6 p.m. \n4:30-5:30 p.m. TOPS meeting at South Park Recreation Center. \n1-3 p.m. – Bailey Boomers Group at Platte Canyon Community Church. \n5-8 p.m. Campfire nights at Glenn Isle Resort with Randall McKinnon at 573 Old Stagecoach Road\, Bailey. \n7 p.m. Alma Town Council meeting at town hall\, 59 Buckskin St. in Alma. \nWednesday\, April 22 \n9:30 a.m. Storytime at Fairplay Library\, 400 Front Street. \n11 a.m. to 2 p.m. Rocky Mountain Rural Health Outreach at the Guffey Library\, 1625 CR 102. \n12:15 p.m. Mobile Food Share at the Rainbow Roundup Trout Ranch\, 32234 Fishpond Way in Pine. \n1:15 p.m. – Mobile Food Share at the Bailey Community Center\, 83 Main in Bailey. \n2:15 p.m. Mobile Food Share at the Bailey Library\, 350 Bulldogger Road in Bailey. \n4 p.m. – Craft and Chat for people ages 18 years and older at Fairplay Library\, 400 Front Street. Supplies not provided so take a work in progress and “your friendly spirit.” \n5 p.m. Fire & Evacuation Preparedness community meeting via Zoom and in person at the Park County Offices\, 856 Costello Ave. Hosted by the Park County Fire Protection districts in partnership with Fire Adaps Bailey. Meeting will be recorded and posted to the county website and social media platforms for those unable to attend. For more information including the Zoom link here or the Facebook event page. \n\n\nThursday\, April 23\n\n\n10:15 a.m. – Chair Yoga at Bailey Public Library. \n6:30 p.m. – Park Count Development Services hosts community meetings to discuss and capture feedback on revised short-term rental ordinance being considered for adoption. Meetings hosted via Zoom or in person at the county office building located at 856 Costello Ave. Fairplay. Meeting will regard properties located south and west of Kenosha Pass. \n6:30-7:30 p.m. – Fairplay AA meeting at South Park Christian Chapel\, 385 Ninth St. Fairplay. \nFriday\, April 24 \n9:30 a.m. – Storytimeat Fairplay Library\, 400 Front Street. \n10 a.m. to noon – Lego Club at the Fairplay Library\, 400 Front Street. \n10-11:30 a.m. – Kinder Gym Fridays at the South Park Recreational Center for ages six months to five years old. Open gym and tumbling. Parent or guardian supervision is required. Free with membership or drop in for $6. \nSaturday\, April 25 \n9-11 a.m. – Bird walk and birding workshop\, bird walk and audiovisual program at McGraw Park\, 39 Wellington Lake Road in Bailey. Workshop fee is $25 and includes a mountain birds book. For more information email joe@betterbirdwatching.com or call 719-301-8801. To reserve a seat log on to square.link/u/bbukyd9x. \n6-8:30 p.m. – “Ski You in Hell” murder mystery at the Alma Town Hall North Room. Tickets are $30 and include full game\, light refreshments and non-alcoholic beverages. Beer\, wine and Fireapple cocktails available by donation. Register before April 20 to receive character in advance. Email AlmaFoundationColorado@gmail.com. \n\n\nSunday\, April 26\n\n\n2-5:30 p.m. – Buckskin Joe’s 4H Paint and Snack at 880 Bogue St.\, Fairplay. Tickets cost $35. All proceeds benefit the 4H Shooting Sports Program. \nSaturday\, May 16 \nNoon-3 p.m. – Free Soup Saturday at the American Legion\, 501 Clark St. Fairplay. \nJune 13 \n9 a.m. to 5 p.m. – ALma Clean-Up Day. Fill up designated Town of Alma trash bag with noxious weeds and trash throughout town. Free recycling available\, fees charged for small appliances\, electronics\, pain\, oil and tires. BBQ provided by the Town of Alma. Call town hall for more information: 719-836-2712. \nSaturday\, June 20 \nNoon-3 p.m. – Free Soup Saturday at the American Legion\, 501 Clark St. Fairplay.
URL:https://impoa.net/event/this-week-in-park-county-the-flume/
LOCATION:CO
CATEGORIES:Events
ATTACH;FMTTYPE=image/jpeg:https://impoa.net/wp-content/uploads/FlumeLogo-e1754322424186.jpg
END:VEVENT
END:VCALENDAR